BEGIN:VCALENDAR
VERSION:2.0
PRODID:-//Plone.org//NONSGML plone.app.event//EN
X-WR-TIMEZONE:Europe/Madrid
BEGIN:VEVENT
SUMMARY:Taller de Sant Jordi
DTSTART;TZID=Europe/Madrid;VALUE=DATE-TIME:20150417T180000
DTEND;TZID=Europe/Madrid;VALUE=DATE-TIME:20150417T190000
DTSTAMP;VALUE=DATE-TIME:20260421T092924Z
UID:6d053da426f1c9a78579a23de44510bd
CREATED;VALUE=DATE-TIME:20150417T000000Z
CATEGORIES:Infantils
LOCATION:Biblioteca Can Milans
ORGANIZER:Biblioteca Can Milans
DESCRIPTION:Vine i decorarem la biblioteca!
URL:https://caldetes.cat/document.php?id=3684
END:VEVENT
END:VCALENDAR