BEGIN:VCALENDAR
VERSION:2.0
PRODID:-//Plone.org//NONSGML plone.app.event//EN
X-WR-TIMEZONE:Europe/Madrid
BEGIN:VEVENT
SUMMARY:Per Sant Jordi la Biblioteca surt al carrer!
DTSTART;TZID=Europe/Madrid;VALUE=DATE-TIME:20150423T100000
DTEND;TZID=Europe/Madrid;VALUE=DATE-TIME:20150423T110000
DTSTAMP;VALUE=DATE-TIME:20260421T111621Z
UID:a8819d49c5b271cc7972de76f347ae56
CREATED;VALUE=DATE-TIME:20150423T000000Z
CATEGORIES:Mostra,Literatura
LOCATION:Mercat
ORGANIZER:Biblioteca Can Milans
URL:https://caldetes.cat/document.php?id=3685
END:VEVENT
END:VCALENDAR