BEGIN:VCALENDAR
VERSION:2.0
PRODID:-//Plone.org//NONSGML plone.app.event//EN
X-WR-TIMEZONE:Europe/Madrid
BEGIN:VEVENT
SUMMARY:Visita a la Biblioteca de l'Escola Bressol
DTSTART;TZID=Europe/Madrid;VALUE=DATE-TIME:20150429T100000
DTEND;TZID=Europe/Madrid;VALUE=DATE-TIME:20150429T110000
DTSTAMP;VALUE=DATE-TIME:20260421T111816Z
UID:0fbb98fed2da01d614893805c49d0162
CREATED;VALUE=DATE-TIME:20150429T000000Z
CATEGORIES:Literatura,Infantils
LOCATION:Biblioteca Can Milans
ORGANIZER:Biblioteca Can Milans
URL:https://caldetes.cat/document.php?id=3686
END:VEVENT
END:VCALENDAR