BEGIN:VCALENDAR
VERSION:2.0
PRODID:-//Plone.org//NONSGML plone.app.event//EN
X-WR-TIMEZONE:Europe/Madrid
BEGIN:VEVENT
SUMMARY:Visita a la Biblioteca dels nens/es del CEIP Sagrada Família
DTSTART;TZID=Europe/Madrid;VALUE=DATE-TIME:20150506T093000
DTEND;TZID=Europe/Madrid;VALUE=DATE-TIME:20150506T103000
DTSTAMP;VALUE=DATE-TIME:20260423T020038Z
UID:ac7e9ea3e52f6405f998ae579f38e67d
CREATED;VALUE=DATE-TIME:20150506T000000Z
CATEGORIES:Mostra,Literatura,Infantils
LOCATION:Biblioteca Can Milans
ORGANIZER:Biblioteca Can Milans
DESCRIPTION:Els nens i nenes de P5 de l'Escola Sagrada Família coneixen Can Milans
URL:https://caldetes.cat/document.php?id=3687
END:VEVENT
END:VCALENDAR