BEGIN:VCALENDAR
VERSION:2.0
PRODID:-//Plone.org//NONSGML plone.app.event//EN
X-WR-TIMEZONE:Europe/Madrid
BEGIN:VEVENT
SUMMARY:Tertúlia literària infantil: Jo, Elvis Riboldi
DTSTART;TZID=Europe/Madrid;VALUE=DATE-TIME:20150508T153000
DTEND;TZID=Europe/Madrid;VALUE=DATE-TIME:20150508T163000
DTSTAMP;VALUE=DATE-TIME:20260421T080652Z
UID:b5050962ea33ef5c93c484b80d9c2c77
CREATED;VALUE=DATE-TIME:20150508T000000Z
CATEGORIES:Literatura,Infantils
LOCATION:Biblioteca Can Milans
ORGANIZER:Biblioteca Can Milans
DESCRIPTION:Amb la presència d'un dels seus autors, Jaume Copons
URL:https://caldetes.cat/document.php?id=3688
END:VEVENT
END:VCALENDAR