BEGIN:VCALENDAR
VERSION:2.0
PRODID:-//Plone.org//NONSGML plone.app.event//EN
X-WR-TIMEZONE:Europe/Madrid
BEGIN:VEVENT
SUMMARY:Hora del conte en anglès. "La rateta que escombrava l'escaleta"
DTSTART;TZID=Europe/Madrid;VALUE=DATE-TIME:20150508T180000
DTEND;TZID=Europe/Madrid;VALUE=DATE-TIME:20150508T190000
DTSTAMP;VALUE=DATE-TIME:20260421T080504Z
UID:e4073c298cb661905d1a78d7fd00bb3d
CREATED;VALUE=DATE-TIME:20150508T000000Z
CATEGORIES:Literatura,Infantils
LOCATION:Biblioteca Can Milans
ORGANIZER:Biblioteca Can Milans
DESCRIPTION:A càrrec de Plat i Cullera
URL:https://caldetes.cat/document.php?id=3689
END:VEVENT
END:VCALENDAR