BEGIN:VCALENDAR
VERSION:2.0
PRODID:-//Plone.org//NONSGML plone.app.event//EN
X-WR-TIMEZONE:Europe/Madrid
BEGIN:VEVENT
SUMMARY:Visita a la Biblioteca dels nens/es de l'Escola Sagrada Família
DTSTART;TZID=Europe/Madrid;VALUE=DATE-TIME:20150513T093000
DTEND;TZID=Europe/Madrid;VALUE=DATE-TIME:20150513T103000
DTSTAMP;VALUE=DATE-TIME:20260421T095532Z
UID:324749a6ac0710e7d72addf789690ec4
CREATED;VALUE=DATE-TIME:20150513T000000Z
CATEGORIES:Literatura,Infantils
LOCATION:Biblioteca Can Milans
ORGANIZER:Biblioteca Can Milans
URL:https://caldetes.cat/document.php?id=3690
END:VEVENT
END:VCALENDAR