BEGIN:VCALENDAR
VERSION:2.0
PRODID:-//Plone.org//NONSGML plone.app.event//EN
X-WR-TIMEZONE:Europe/Madrid
BEGIN:VEVENT
SUMMARY:Visita a la Biblioteca dels nens/es de l'Escola Sagrada Família
DTSTART;TZID=Europe/Madrid;VALUE=DATE-TIME:20150515T093000
DTEND;TZID=Europe/Madrid;VALUE=DATE-TIME:20150515T103000
DTSTAMP;VALUE=DATE-TIME:20260422T153457Z
UID:0dbfb72a5f7a14bd8370eb039ed2ee0c
CREATED;VALUE=DATE-TIME:20150515T000000Z
CATEGORIES:Literatura,Infantils
LOCATION:Biblioteca Can Milans
ORGANIZER:Biblioteca Can Milans
URL:https://caldetes.cat/document.php?id=3691
END:VEVENT
END:VCALENDAR