BEGIN:VCALENDAR
VERSION:2.0
PRODID:-//Plone.org//NONSGML plone.app.event//EN
X-WR-TIMEZONE:Europe/Madrid
BEGIN:VEVENT
SUMMARY:Visita a la Biblioteca dels nens/es de l'Escola Sagrada Família
DTSTART;TZID=Europe/Madrid;VALUE=DATE-TIME:20150520T093000
DTEND;TZID=Europe/Madrid;VALUE=DATE-TIME:20150520T103000
DTSTAMP;VALUE=DATE-TIME:20260421T095412Z
UID:6b60f9c2c34a3bcaa667828ea8731d56
CREATED;VALUE=DATE-TIME:20150520T000000Z
CATEGORIES:Literatura,Infantils
LOCATION:Biblioteca Can Milans
ORGANIZER:Biblioteca Can Milans
DESCRIPTION:Els nens i nenes de 2n del CEIP Sagrada Família ens venen a visitar i a descobrir els secrets de la biblioteca.
URL:https://caldetes.cat/document.php?id=3692
END:VEVENT
END:VCALENDAR