BEGIN:VCALENDAR
VERSION:2.0
PRODID:-//Plone.org//NONSGML plone.app.event//EN
X-WR-TIMEZONE:Europe/Madrid
BEGIN:VEVENT
SUMMARY:Tertúlia literària infantil: "Wonder" de J.R. Palacio
DTSTART;TZID=Europe/Madrid;VALUE=DATE-TIME:20150522T153000
DTEND;TZID=Europe/Madrid;VALUE=DATE-TIME:20150522T163000
DTSTAMP;VALUE=DATE-TIME:20260421T125207Z
UID:4b52f14a329ef7ef8016140dc81d4a92
CREATED;VALUE=DATE-TIME:20150522T000000Z
CATEGORIES:Literatura,Infantils
LOCATION:Biblioteca Can Milans
ORGANIZER:Biblioteca Can Milans
DESCRIPTION:A càrrec de Nàdia Panadero
URL:https://caldetes.cat/document.php?id=3693
END:VEVENT
END:VCALENDAR