BEGIN:VCALENDAR
VERSION:2.0
PRODID:-//Plone.org//NONSGML plone.app.event//EN
X-WR-TIMEZONE:Europe/Madrid
BEGIN:VEVENT
SUMMARY:Visita a la Biblioteca dels nens/es de l'Escola Sagrada Família
DTSTART;TZID=Europe/Madrid;VALUE=DATE-TIME:20150527T093000
DTEND;TZID=Europe/Madrid;VALUE=DATE-TIME:20150527T103000
DTSTAMP;VALUE=DATE-TIME:20260421T171325Z
UID:1fee8c8ecf7595ad0a49754829803ef0
CREATED;VALUE=DATE-TIME:20150527T000000Z
CATEGORIES:Literatura,Infantils
LOCATION:Biblioteca Can Milans
ORGANIZER:Biblioteca Can Milans
URL:https://caldetes.cat/document.php?id=3694
END:VEVENT
END:VCALENDAR