BEGIN:VCALENDAR
VERSION:2.0
PRODID:-//Plone.org//NONSGML plone.app.event//EN
X-WR-TIMEZONE:Europe/Madrid
BEGIN:VEVENT
SUMMARY:Visita a la Biblioteca dels nens/es de l'Escola Sagrada Família
DTSTART;TZID=Europe/Madrid;VALUE=DATE-TIME:20150529T153000
DTEND;TZID=Europe/Madrid;VALUE=DATE-TIME:20150529T163000
DTSTAMP;VALUE=DATE-TIME:20260421T111720Z
UID:04f1c9952512f3240ef32bf3dada4176
CREATED;VALUE=DATE-TIME:20150529T000000Z
CATEGORIES:Literatura,Infantils
LOCATION:Biblioteca Can Milans
ORGANIZER:Biblioteca Can Milans
URL:https://caldetes.cat/document.php?id=3695
END:VEVENT
END:VCALENDAR