BEGIN:VCALENDAR
VERSION:2.0
PRODID:-//Plone.org//NONSGML plone.app.event//EN
X-WR-TIMEZONE:Europe/Madrid
BEGIN:VEVENT
SUMMARY:Com t'imagines una Catalunya independent?
DTSTART;TZID=Europe/Madrid;VALUE=DATE-TIME:20150320T190000
DTEND;TZID=Europe/Madrid;VALUE=DATE-TIME:20150320T200000
DTSTAMP;VALUE=DATE-TIME:20260423T175116Z
UID:2dd90a640b8d25b1d518d8fe9e8a346b
CREATED;VALUE=DATE-TIME:20150320T000000Z
LOCATION:Sala Cultural
ORGANIZER:Assemblea Nacional Catalana - Caldes d'Estrac
DESCRIPTION:Projecció de documental i debat
URL:https://caldetes.cat/document.php?id=3715
END:VEVENT
END:VCALENDAR