BEGIN:VCALENDAR
VERSION:2.0
PRODID:-//Plone.org//NONSGML plone.app.event//EN
X-WR-TIMEZONE:Europe/Madrid
BEGIN:VEVENT
SUMMARY:Promoció dia del Pare
DTSTART;TZID=Europe/Madrid;VALUE=DATE-TIME:20150319T235900
DTEND;TZID=Europe/Madrid;VALUE=DATE-TIME:20150320T005900
DTSTAMP;VALUE=DATE-TIME:20260421T185647Z
UID:64ffeead2737bc48e16c239d28f7a2b9
CREATED;VALUE=DATE-TIME:20150319T000000Z
CATEGORIES:Esports
LOCATION:Complex Esportiu Municipal
DESCRIPTION:Fés-te un regal!
URL:https://caldetes.cat/document.php?id=3716
END:VEVENT
END:VCALENDAR