BEGIN:VCALENDAR
VERSION:2.0
PRODID:-//Plone.org//NONSGML plone.app.event//EN
X-WR-TIMEZONE:Europe/Madrid
BEGIN:VEVENT
SUMMARY:Fira Animal- Natural
DTSTART;TZID=Europe/Madrid;VALUE=DATE-TIME:20150510T100000
DTEND;TZID=Europe/Madrid;VALUE=DATE-TIME:20150510T110000
DTSTAMP;VALUE=DATE-TIME:20260421T080433Z
UID:75ac683b0386ff127157918c0d50759f
CREATED;VALUE=DATE-TIME:20150510T000000Z
LOCATION:Esplanada Can Muntanyà
COMMENT:Durada: De 10 a 20h
DESCRIPTION:4ta Edició
URL:https://caldetes.cat/document.php?id=3786
END:VEVENT
END:VCALENDAR