BEGIN:VCALENDAR
VERSION:2.0
PRODID:-//Plone.org//NONSGML plone.app.event//EN
X-WR-TIMEZONE:Europe/Madrid
BEGIN:VEVENT
SUMMARY:Mercat de Segona Mà
DTSTART;TZID=Europe/Madrid;VALUE=DATE-TIME:20150607T090000
DTEND;TZID=Europe/Madrid;VALUE=DATE-TIME:20150607T100000
DTSTAMP;VALUE=DATE-TIME:20260421T152604Z
UID:de0c33189c4ce1d5260b7506e9ac4814
CREATED;VALUE=DATE-TIME:20150607T000000Z
LOCATION:Esplanada Can Muntanyà
ORGANIZER:Ajuntament de Caldes d'Estrac en col·laboració amb SerieB Market
COMMENT:Durada: De 9 a 15h
DESCRIPTION:Les inscripcions s'obriran al web  www.seriebmarket.com el dimecres  20 de maig
URL:https://caldetes.cat/document.php?id=3787
END:VEVENT
END:VCALENDAR