BEGIN:VCALENDAR
VERSION:2.0
PRODID:-//Plone.org//NONSGML plone.app.event//EN
X-WR-TIMEZONE:Europe/Madrid
BEGIN:VEVENT
SUMMARY:Exposició del Fons d'Art de l'Ajuntament
DTSTART;TZID=Europe/Madrid;VALUE=DATE-TIME:20150424T193000
DTEND;TZID=Europe/Madrid;VALUE=DATE-TIME:20150424T203000
DTSTAMP;VALUE=DATE-TIME:20260421T064602Z
UID:5bfe2011b1f254063b314fb975ceaf3d
CREATED;VALUE=DATE-TIME:20150424T000000Z
CATEGORIES:Exposició
LOCATION:Centre d'Art La Fabriqueta
ORGANIZER:Àrea de Cultura, Ajuntament Caldes d'Estrac
COMMENT:Durada: Del 24 al 8 de maig de 2015, obertura 24 d' abril 19.30 h.
DESCRIPTION:Del 24 al 7 d' abril de 2015
URL:https://caldetes.cat/document.php?id=3804
END:VEVENT
END:VCALENDAR