BEGIN:VCALENDAR
VERSION:2.0
PRODID:-//Plone.org//NONSGML plone.app.event//EN
X-WR-TIMEZONE:Europe/Madrid
BEGIN:VEVENT
SUMMARY:Sant Jordi pels més petits
DTSTART;TZID=Europe/Madrid;VALUE=DATE-TIME:20150425T160000
DTEND;TZID=Europe/Madrid;VALUE=DATE-TIME:20150425T170000
DTSTAMP;VALUE=DATE-TIME:20260424T200830Z
UID:f19446ad66175513c46218bdda6a3460
CREATED;VALUE=DATE-TIME:20150425T000000Z
CATEGORIES:Infantils
LOCATION:Plaça de la Vila
ORGANIZER:Ajuntament de Caldes d'Estrac
COMMENT:Preu: Gratuït
Durada: de 16h a 18h
DESCRIPTION:Inflables i berenar!
URL:https://caldetes.cat/document.php?id=3805
END:VEVENT
END:VCALENDAR