BEGIN:VCALENDAR
VERSION:2.0
PRODID:-//Plone.org//NONSGML plone.app.event//EN
X-WR-TIMEZONE:Europe/Madrid
BEGIN:VEVENT
SUMMARY:Especial Sant Jordi
DTSTART;TZID=Europe/Madrid;VALUE=DATE-TIME:20150425T180000
DTEND;TZID=Europe/Madrid;VALUE=DATE-TIME:20150425T190000
DTSTAMP;VALUE=DATE-TIME:20260421T093041Z
UID:7d3a51360986dc9464a9a11263131181
CREATED;VALUE=DATE-TIME:20150425T000000Z
CATEGORIES:Literatura
LOCATION:Sala Cultural
DESCRIPTION:Premis Mostra Literària del Maresme
URL:https://caldetes.cat/document.php?id=3806
END:VEVENT
END:VCALENDAR