BEGIN:VCALENDAR
VERSION:2.0
PRODID:-//Plone.org//NONSGML plone.app.event//EN
X-WR-TIMEZONE:Europe/Madrid
BEGIN:VEVENT
SUMMARY:Especial Sant Jordi
DTSTART;TZID=Europe/Madrid;VALUE=DATE-TIME:20150426T180000
DTEND;TZID=Europe/Madrid;VALUE=DATE-TIME:20150426T190000
DTSTAMP;VALUE=DATE-TIME:20260421T080845Z
UID:ac26b29821d9291a257982278e9515ec
CREATED;VALUE=DATE-TIME:20150426T000000Z
LOCATION:Sala Cultural
DESCRIPTION:Reconeixements i Distincions 2015
URL:https://caldetes.cat/document.php?id=3807
END:VEVENT
END:VCALENDAR