BEGIN:VCALENDAR
VERSION:2.0
PRODID:-//Plone.org//NONSGML plone.app.event//EN
X-WR-TIMEZONE:Europe/Madrid
BEGIN:VEVENT
SUMMARY:Concert de Sant Jordi
DTSTART;TZID=Europe/Madrid;VALUE=DATE-TIME:20150426T200000
DTEND;TZID=Europe/Madrid;VALUE=DATE-TIME:20150426T210000
DTSTAMP;VALUE=DATE-TIME:20260421T093058Z
UID:a4f8ef503da2e05d7da99e0b00d6260f
CREATED;VALUE=DATE-TIME:20150426T000000Z
CATEGORIES:Música
LOCATION:Esglèsia de Santa Maria
ORGANIZER:Ajuntament de Caldes d'Estrac en col·laboració amb la Parròquia de Santa Maria de Caldes d'Estrac
COMMENT:Preu: 5 euros (adults) - 2 euros (infants fins a 12 anys). Venda de tiquets 1 hora abans de l'inici del concert
DESCRIPTION:Camerat- Orquestra del Maresme
URL:https://caldetes.cat/document.php?id=3808
END:VEVENT
END:VCALENDAR