BEGIN:VCALENDAR
VERSION:2.0
PRODID:-//Plone.org//NONSGML plone.app.event//EN
X-WR-TIMEZONE:Europe/Madrid
BEGIN:VEVENT
SUMMARY:Ple Extraordinari
DTSTART;TZID=Europe/Madrid;VALUE=DATE-TIME:20150427T194500
DTEND;TZID=Europe/Madrid;VALUE=DATE-TIME:20150427T204500
DTSTAMP;VALUE=DATE-TIME:20260421T080831Z
UID:a366c6c981efaa63e06e81f5f35152df
CREATED;VALUE=DATE-TIME:20150427T000000Z
LOCATION:Sala Cultural
DESCRIPTION:19:45h a la Sala Cultural
URL:https://caldetes.cat/document.php?id=3819
END:VEVENT
END:VCALENDAR