BEGIN:VCALENDAR
VERSION:2.0
PRODID:-//Plone.org//NONSGML plone.app.event//EN
X-WR-TIMEZONE:Europe/Madrid
BEGIN:VEVENT
SUMMARY:Ple Ordinari
DTSTART;TZID=Europe/Madrid;VALUE=DATE-TIME:20150427T200000
DTEND;TZID=Europe/Madrid;VALUE=DATE-TIME:20150427T210000
DTSTAMP;VALUE=DATE-TIME:20260421T080635Z
UID:49a3fd104765418f6b058298f6f7ce61
CREATED;VALUE=DATE-TIME:20150427T000000Z
LOCATION:Sala Cultural
DESCRIPTION:20h a la Sala Cultural
URL:https://caldetes.cat/document.php?id=3820
END:VEVENT
END:VCALENDAR