BEGIN:VCALENDAR
VERSION:2.0
PRODID:-//Plone.org//NONSGML plone.app.event//EN
X-WR-TIMEZONE:Europe/Madrid
BEGIN:VEVENT
SUMMARY:Taller d'hipopressius
DTSTART;TZID=Europe/Madrid;VALUE=DATE-TIME:20150612T170000
DTEND;TZID=Europe/Madrid;VALUE=DATE-TIME:20150612T180000
DTSTAMP;VALUE=DATE-TIME:20260424T195300Z
UID:5ee9eb9b30f70e88f34e69041b934fde
CREATED;VALUE=DATE-TIME:20150612T000000Z
CATEGORIES:Esports
LOCATION:Complex Esportiu Municipal
ORGANIZER:Sige Sport Caldetes
COMMENT:Preu: 33 &euro; socis, 39 &euro; no socis
Durada: De 17 a 20h
DESCRIPTION:Taller de gimnàstica d'abdominal hipopressiva
URL:https://caldetes.cat/document.php?id=3832
END:VEVENT
END:VCALENDAR