BEGIN:VCALENDAR
VERSION:2.0
PRODID:-//Plone.org//NONSGML plone.app.event//EN
X-WR-TIMEZONE:Europe/Madrid
BEGIN:VEVENT
SUMMARY:"Caldes i Gent"
DTSTART;TZID=Europe/Madrid;VALUE=DATE-TIME:20150508T180000
DTEND;TZID=Europe/Madrid;VALUE=DATE-TIME:20150508T190000
DTSTAMP;VALUE=DATE-TIME:20260424T042701Z
UID:ef2d0dfe9d57fdd130b9923a153c24cc
CREATED;VALUE=DATE-TIME:20150508T000000Z
CATEGORIES:Exposició
LOCATION:L'Equipament (La Fabriqueta)
COMMENT:Durada: Fins al 27 de maig. Horari de visites: de dijous a diumenges de 18h a 21:30h
DESCRIPTION:Exposició col·lectiva de pintors de Caldes d'Estrac
URL:https://caldetes.cat/document.php?id=3839
END:VEVENT
END:VCALENDAR