BEGIN:VCALENDAR
VERSION:2.0
PRODID:-//Plone.org//NONSGML plone.app.event//EN
X-WR-TIMEZONE:Europe/Madrid
BEGIN:VEVENT
SUMMARY:KMPUS ESPORTIU 2015
DTSTART;TZID=Europe/Madrid;VALUE=DATE-TIME:20150622T080000
DTEND;TZID=Europe/Madrid;VALUE=DATE-TIME:20150622T090000
DTSTAMP;VALUE=DATE-TIME:20260425T002910Z
UID:69669e3b037ea0410a5f0a60dca5aaca
CREATED;VALUE=DATE-TIME:20150622T000000Z
CATEGORIES:Esports,Infantils
LOCATION:Complex Esportiu Municipal
ORGANIZER:Sige Sport Caldetes, Club Esportiu Sistrells
COMMENT:Durada: des del 22 de juny al 4 de setembre
DESCRIPTION:Activitats per als petits de la familia
URL:https://caldetes.cat/document.php?id=3845
END:VEVENT
END:VCALENDAR