BEGIN:VCALENDAR
VERSION:2.0
PRODID:-//Plone.org//NONSGML plone.app.event//EN
X-WR-TIMEZONE:Europe/Madrid
BEGIN:VEVENT
SUMMARY:Concert Recorregut Període Barroc
DTSTART;TZID=Europe/Madrid;VALUE=DATE-TIME:20150517T190000
DTEND;TZID=Europe/Madrid;VALUE=DATE-TIME:20150517T200000
DTSTAMP;VALUE=DATE-TIME:20260422T043206Z
UID:2aa109e2c2523a5b5d99308d0a51b5e0
CREATED;VALUE=DATE-TIME:20150517T000000Z
CATEGORIES:Música
LOCATION:Parròquia Santa Maria
COMMENT:Preu: 5 euros
DESCRIPTION:A càrrec del Grup Barroques
URL:https://caldetes.cat/document.php?id=3848
END:VEVENT
END:VCALENDAR