BEGIN:VCALENDAR
VERSION:2.0
PRODID:-//Plone.org//NONSGML plone.app.event//EN
X-WR-TIMEZONE:Europe/Madrid
BEGIN:VEVENT
SUMMARY:Patinatge Artístic
DTSTART;TZID=Europe/Madrid;VALUE=DATE-TIME:20150517T100000
DTEND;TZID=Europe/Madrid;VALUE=DATE-TIME:20150517T110000
DTSTAMP;VALUE=DATE-TIME:20260422T171217Z
UID:1a35c673d16565ef3ee988ce7186b3ca
CREATED;VALUE=DATE-TIME:20150517T000000Z
CATEGORIES:Esports
LOCATION:Pavelló Poliesportiu Municipal
ORGANIZER:C.P.A Caldes d'Estrac en col·laboració amb l'Ajuntament de Caldes d'Estrac
COMMENT:Durada: 16 i 17 de maig
DESCRIPTION:Campeonat de Barcelona Junior
URL:https://caldetes.cat/document.php?id=3851
END:VEVENT
END:VCALENDAR