BEGIN:VCALENDAR
VERSION:2.0
PRODID:-//Plone.org//NONSGML plone.app.event//EN
X-WR-TIMEZONE:Europe/Madrid
BEGIN:VEVENT
SUMMARY:Nit dels museus
DTSTART;TZID=Europe/Madrid;VALUE=DATE-TIME:20150516T193000
DTEND;TZID=Europe/Madrid;VALUE=DATE-TIME:20150516T203000
DTSTAMP;VALUE=DATE-TIME:20260421T095331Z
UID:abfab287af7a8739e98e743f85ce742c
CREATED;VALUE=DATE-TIME:20150516T000000Z
CATEGORIES:Exposició
LOCATION:Fundació Palau
ORGANIZER:Fundació Palau
COMMENT:Preu: Entrada lliure
Durada: A partir de les 19:30h
DESCRIPTION:Fundació Palau
URL:https://caldetes.cat/document.php?id=3852
END:VEVENT
END:VCALENDAR