BEGIN:VCALENDAR
VERSION:2.0
PRODID:-//Plone.org//NONSGML plone.app.event//EN
X-WR-TIMEZONE:Europe/Madrid
BEGIN:VEVENT
SUMMARY:Naufragis
DTSTART;TZID=Europe/Madrid;VALUE=DATE-TIME:20150605T193000
DTEND;TZID=Europe/Madrid;VALUE=DATE-TIME:20150605T203000
DTSTAMP;VALUE=DATE-TIME:20260421T111859Z
UID:b2d1f87b41c1657d77d9ff030fbff8fe
CREATED;VALUE=DATE-TIME:20150605T000000Z
CATEGORIES:Exposició
LOCATION:L'Equipament (La Fabriqueta)
ORGANIZER:Ajuntament de Caldes d'Estrac
COMMENT:Preu: Gratuït
Durada: Del 5 de Juny fins el 3 de juliol. Horari de visites: De 18:30 a 21:30 de dijous a diumenge
DESCRIPTION:Exposició de Joan Laborda
URL:https://caldetes.cat/document.php?id=3856
END:VEVENT
END:VCALENDAR