BEGIN:VCALENDAR
VERSION:2.0
PRODID:-//Plone.org//NONSGML plone.app.event//EN
X-WR-TIMEZONE:Europe/Madrid
BEGIN:VEVENT
SUMMARY:Exposició de Carme Riera
DTSTART;TZID=Europe/Madrid;VALUE=DATE-TIME:20150704T200000
DTEND;TZID=Europe/Madrid;VALUE=DATE-TIME:20150704T210000
DTSTAMP;VALUE=DATE-TIME:20260424T154454Z
UID:79004960248286f15b6c29db2a3a98e5
CREATED;VALUE=DATE-TIME:20150704T000000Z
CATEGORIES:Exposició
LOCATION:L'Equipament (La Fabriqueta)
ORGANIZER:Ajuntament de Caldes d'Estrac
COMMENT:Preu: Gratuït
Durada: Del 4 de juliol a l'1 d'Agost. Horari de visites: De 18:30 a 21:30 de dijous a diumenge
DESCRIPTION:Veus del Mar
URL:https://caldetes.cat/document.php?id=3857
END:VEVENT
END:VCALENDAR