BEGIN:VCALENDAR
VERSION:2.0
PRODID:-//Plone.org//NONSGML plone.app.event//EN
X-WR-TIMEZONE:Europe/Madrid
BEGIN:VEVENT
SUMMARY:Exposició de Pol Borràs
DTSTART;TZID=Europe/Madrid;VALUE=DATE-TIME:20150801T200000
DTEND;TZID=Europe/Madrid;VALUE=DATE-TIME:20150801T210000
DTSTAMP;VALUE=DATE-TIME:20260425T160758Z
UID:3d7aa0efa81aa7768c8773bce298c319
CREATED;VALUE=DATE-TIME:20150801T000000Z
CATEGORIES:Exposició
LOCATION:L'Equipament (La Fabriqueta)
ORGANIZER:Ajuntament de Caldes d'Estrac
COMMENT:Preu: Gratuït
Durada: De l'1 al 14 d'agost. Horari de visites: De 18:30 a 21:30 de dijous a diumenge
DESCRIPTION:Nou realisme
URL:https://caldetes.cat/document.php?id=3858
END:VEVENT
END:VCALENDAR