BEGIN:VCALENDAR
VERSION:2.0
PRODID:-//Plone.org//NONSGML plone.app.event//EN
X-WR-TIMEZONE:Europe/Madrid
BEGIN:VEVENT
SUMMARY:Exposició d'Elisa Schaar
DTSTART;TZID=Europe/Madrid;VALUE=DATE-TIME:20150815T193000
DTEND;TZID=Europe/Madrid;VALUE=DATE-TIME:20150815T203000
DTSTAMP;VALUE=DATE-TIME:20260425T184716Z
UID:04a6ac5dbbd9bf6f0380df60dbde0d40
CREATED;VALUE=DATE-TIME:20150815T000000Z
CATEGORIES:Exposició
LOCATION:L'Equipament (La Fabriqueta)
ORGANIZER:Ajuntament de Caldes d'Estrac
COMMENT:Preu: Gratuït
Durada: De l'1 al 28 d'agost. Horari de visites: De 18:00 a 21:30 de dijous a diumenge
DESCRIPTION:Expressionisme abstracte
URL:https://caldetes.cat/document.php?id=3859
END:VEVENT
END:VCALENDAR