BEGIN:VCALENDAR
VERSION:2.0
PRODID:-//Plone.org//NONSGML plone.app.event//EN
X-WR-TIMEZONE:Europe/Madrid
BEGIN:VEVENT
SUMMARY:Exposició Raimon Sunyer
DTSTART;TZID=Europe/Madrid;VALUE=DATE-TIME:20150829T193000
DTEND;TZID=Europe/Madrid;VALUE=DATE-TIME:20150829T203000
DTSTAMP;VALUE=DATE-TIME:20260423T192240Z
UID:f0f68a82be0e075207bb4b45ca174b8a
CREATED;VALUE=DATE-TIME:20150829T000000Z
CATEGORIES:Exposició
LOCATION:L'Equipament (La Fabriqueta)
ORGANIZER:Ajuntament de Caldes d'Estrac
COMMENT:Preu: Gratuït
Durada: A partir del 29 d'agost. Horari de visites: De 18:30 a 21:30 de dijous a diumenge
DESCRIPTION:"Música callada". Exposició vigent fins l'1 d'octubre
URL:https://caldetes.cat/document.php?id=3860
END:VEVENT
END:VCALENDAR