BEGIN:VCALENDAR
VERSION:2.0
PRODID:-//Plone.org//NONSGML plone.app.event//EN
X-WR-TIMEZONE:Europe/Madrid
BEGIN:VEVENT
SUMMARY:Diada de pensionistes
DTSTART;TZID=Europe/Madrid;VALUE=DATE-TIME:20150614T100000
DTEND;TZID=Europe/Madrid;VALUE=DATE-TIME:20150614T110000
DTSTAMP;VALUE=DATE-TIME:20260423T120648Z
UID:1610c1afb2c44bf67c2996fd962ed5bc
CREATED;VALUE=DATE-TIME:20150614T000000Z
CATEGORIES:Festa
LOCATION:Parc Joan Maragall
ORGANIZER:Ajuntament de Caldes d'Estrac amb col·laboració amb el Casal d'Avis
DESCRIPTION:Amb ball de sardanes al Parc Maragall
URL:https://caldetes.cat/document.php?id=3861
END:VEVENT
END:VCALENDAR