BEGIN:VCALENDAR
VERSION:2.0
PRODID:-//Plone.org//NONSGML plone.app.event//EN
X-WR-TIMEZONE:Europe/Madrid
BEGIN:VEVENT
SUMMARY:&OpenCurlyDoubleQuote;Cuina sense pares&CloseCurlyDoubleQuote;
DTSTART;TZID=Europe/Madrid;VALUE=DATE-TIME:20150611T170000
DTEND;TZID=Europe/Madrid;VALUE=DATE-TIME:20150611T180000
DTSTAMP;VALUE=DATE-TIME:20260421T140653Z
UID:294ec77f0cc82afce44664f6a4f73e40
CREATED;VALUE=DATE-TIME:20150611T000000Z
CATEGORIES:Cursos
LOCATION:Espai Jove
ORGANIZER:Ajuntament de Caldes d'Estrac i Diputació de Barcelona
COMMENT:Preu: Gratuït
Durada: De 17h a 19h
DESCRIPTION:Taller de cuina jove
URL:https://caldetes.cat/document.php?id=3863
END:VEVENT
END:VCALENDAR