BEGIN:VCALENDAR
VERSION:2.0
PRODID:-//Plone.org//NONSGML plone.app.event//EN
X-WR-TIMEZONE:Europe/Madrid
BEGIN:VEVENT
SUMMARY:Campus Esportiu
DTSTART;TZID=Europe/Madrid;VALUE=DATE-TIME:20150514T141400
DTEND;TZID=Europe/Madrid;VALUE=DATE-TIME:20150514T151400
DTSTAMP;VALUE=DATE-TIME:20260421T095442Z
UID:f42aeb00bc63ee4c2d22ba70c79d8a0a
CREATED;VALUE=DATE-TIME:20150514T000000Z
CATEGORIES:Esports
LOCATION:Sige Esports
ORGANIZER:Sige Sport Caldetes
COMMENT:Durada: A partir del 25 de juny
DESCRIPTION:Sige Esports Caldetes
URL:https://caldetes.cat/document.php?id=3864
END:VEVENT
END:VCALENDAR