BEGIN:VCALENDAR
VERSION:2.0
PRODID:-//Plone.org//NONSGML plone.app.event//EN
X-WR-TIMEZONE:Europe/Madrid
BEGIN:VEVENT
SUMMARY:Fotografia Oficial
DTSTART;TZID=Europe/Madrid;VALUE=DATE-TIME:20150517T120000
DTEND;TZID=Europe/Madrid;VALUE=DATE-TIME:20150517T130000
DTSTAMP;VALUE=DATE-TIME:20260421T152711Z
UID:95bd50ede3dcfdbfaae176c8b52eb649
CREATED;VALUE=DATE-TIME:20150517T000000Z
CATEGORIES:Infantils
LOCATION:Plaça de les Barques
ORGANIZER:Ajuntament de Caldes d'Estrac
DESCRIPTION:Donem la benvinguda a la Generació del 2014
URL:https://caldetes.cat/document.php?id=3866
END:VEVENT
END:VCALENDAR