BEGIN:VCALENDAR
VERSION:2.0
PRODID:-//Plone.org//NONSGML plone.app.event//EN
X-WR-TIMEZONE:Europe/Madrid
BEGIN:VEVENT
SUMMARY:Eleccions Municipals 2015
DTSTART;TZID=Europe/Madrid;VALUE=DATE-TIME:20150524T000000
DTEND;TZID=Europe/Madrid;VALUE=DATE-TIME:20150524T010000
DTSTAMP;VALUE=DATE-TIME:20260421T111646Z
UID:5153f37028e1a151d5e4511838cfa89c
CREATED;VALUE=DATE-TIME:20150524T000000Z
URL:https://caldetes.cat/document.php?id=3871
END:VEVENT
END:VCALENDAR