BEGIN:VCALENDAR
VERSION:2.0
PRODID:-//Plone.org//NONSGML plone.app.event//EN
X-WR-TIMEZONE:Europe/Madrid
BEGIN:VEVENT
SUMMARY:XXII Exposició del Taller de Bonsais
DTSTART;TZID=Europe/Madrid;VALUE=DATE-TIME:20150530T120000
DTEND;TZID=Europe/Madrid;VALUE=DATE-TIME:20150530T130000
DTSTAMP;VALUE=DATE-TIME:20260421T095141Z
UID:281a2894014afeec8cf7fda3e68815c9
CREATED;VALUE=DATE-TIME:20150530T000000Z
CATEGORIES:Exposició
LOCATION:L'Equipament (La Fabriqueta)
ORGANIZER:Ajuntament de Caldes d'Estrac amb col·laboració amb la Diputació de Barcelona
COMMENT:Durada: Dissabte 30 i diumenge 31 de 10h a 14h i de 17h a 20h
DESCRIPTION:Aquest any, dedicat al bosc
URL:https://caldetes.cat/document.php?id=3873
END:VEVENT
END:VCALENDAR