BEGIN:VCALENDAR
VERSION:2.0
PRODID:-//Plone.org//NONSGML plone.app.event//EN
X-WR-TIMEZONE:Europe/Madrid
BEGIN:VEVENT
SUMMARY:Caldes d'Estrac amb l'India
DTSTART;TZID=Europe/Madrid;VALUE=DATE-TIME:20150531T113000
DTEND;TZID=Europe/Madrid;VALUE=DATE-TIME:20150531T123000
DTSTAMP;VALUE=DATE-TIME:20260421T095427Z
UID:43774eef816fc36b5765b859cd81aca3
CREATED;VALUE=DATE-TIME:20150531T000000Z
CATEGORIES:Festa,Música
LOCATION:Pavelló Poliesportiu Municipal
ORGANIZER:El Sombriure dels Nens en col·laboració amb l'Ajuntament de Caldes d'Estrac, Balneari de Caldetes, Aigua Sant Aniol, La Cuina, Cafes Novell, Universal Carioca, Patates Torres, Cava Peralada
COMMENT:Durada: des de les 11:30h fins les 17h.
DESCRIPTION:6a Edició
URL:https://caldetes.cat/document.php?id=3880
END:VEVENT
END:VCALENDAR