BEGIN:VCALENDAR
VERSION:2.0
PRODID:-//Plone.org//NONSGML plone.app.event//EN
X-WR-TIMEZONE:Europe/Madrid
BEGIN:VEVENT
SUMMARY:Acte de cloenda del programa "Voluntariat per la llengua"
DTSTART;TZID=Europe/Madrid;VALUE=DATE-TIME:20150603T193000
DTEND;TZID=Europe/Madrid;VALUE=DATE-TIME:20150603T203000
DTSTAMP;VALUE=DATE-TIME:20260421T140621Z
UID:7321cf1c1b488fb9a025522253ade922
CREATED;VALUE=DATE-TIME:20150603T000000Z
LOCATION:Biblioteca Can Milans
ORGANIZER:Biblioteca Can Milans i CNL del Maresme
DESCRIPTION:Lliurament de Diploma de Participació
URL:https://caldetes.cat/document.php?id=3881
END:VEVENT
END:VCALENDAR