BEGIN:VCALENDAR
VERSION:2.0
PRODID:-//Plone.org//NONSGML plone.app.event//EN
X-WR-TIMEZONE:Europe/Madrid
BEGIN:VEVENT
SUMMARY:Exposició: "Territoris fantàstics de la literatura infantil i juvenil"
DTSTART;TZID=Europe/Madrid;VALUE=DATE-TIME:20150626T153000
DTEND;TZID=Europe/Madrid;VALUE=DATE-TIME:20150626T163000
DTSTAMP;VALUE=DATE-TIME:20260425T002940Z
UID:71d4439548346aefc81f1595e51cb59a
CREATED;VALUE=DATE-TIME:20150626T000000Z
CATEGORIES:Exposició
LOCATION:Biblioteca Can Milans
COMMENT:Durada: Del 26 de juny al 10 de juliol. De 15:30 a 20:30.
DESCRIPTION:Del Consell Català del Llibre Infantil i Juvenil ClijCAT
URL:https://caldetes.cat/document.php?id=3883
END:VEVENT
END:VCALENDAR