BEGIN:VCALENDAR
VERSION:2.0
PRODID:-//Plone.org//NONSGML plone.app.event//EN
X-WR-TIMEZONE:Europe/Madrid
BEGIN:VEVENT
SUMMARY:Ruta literària a Begur: Begur i Vinyoli
DTSTART;TZID=Europe/Madrid;VALUE=DATE-TIME:20150711T080000
DTEND;TZID=Europe/Madrid;VALUE=DATE-TIME:20150711T090000
DTSTAMP;VALUE=DATE-TIME:20260424T195423Z
UID:adfb6c06118f8348a0ac9c56d811038f
CREATED;VALUE=DATE-TIME:20150711T000000Z
LOCATION:Begur
ORGANIZER:Biblioteca Can Milans
DESCRIPTION:Sortida del Club de lectura i trobada amb el Club de Caldes de Malavella
URL:https://caldetes.cat/document.php?id=3884
END:VEVENT
END:VCALENDAR