BEGIN:VCALENDAR
VERSION:2.0
PRODID:-//Plone.org//NONSGML plone.app.event//EN
X-WR-TIMEZONE:Europe/Madrid
BEGIN:VEVENT
SUMMARY:Banc del Temps
DTSTART;TZID=Europe/Madrid;VALUE=DATE-TIME:20150606T180000
DTEND;TZID=Europe/Madrid;VALUE=DATE-TIME:20150606T190000
DTSTAMP;VALUE=DATE-TIME:20260422T164538Z
UID:7c4246cc79cc41a67198c1bf48f01404
CREATED;VALUE=DATE-TIME:20150606T000000Z
LOCATION:Sala Cultural
ORGANIZER:Banc del Temps en col·laboració amb l'Ajuntament de Caldes d'Estrac
DESCRIPTION:Presentacio video del Banc del Temps
URL:https://caldetes.cat/document.php?id=3895
END:VEVENT
END:VCALENDAR