BEGIN:VCALENDAR
VERSION:2.0
PRODID:-//Plone.org//NONSGML plone.app.event//EN
X-WR-TIMEZONE:Europe/Madrid
BEGIN:VEVENT
SUMMARY:Els Diumenges de la Fundació Palau
DTSTART;TZID=Europe/Madrid;VALUE=DATE-TIME:20150607T113000
DTEND;TZID=Europe/Madrid;VALUE=DATE-TIME:20150607T123000
DTSTAMP;VALUE=DATE-TIME:20260421T124705Z
UID:81005571eb8ebf9cf9186d03b39bd235
CREATED;VALUE=DATE-TIME:20150607T000000Z
CATEGORIES:Literatura,Infantils
LOCATION:Fundació Palau
ORGANIZER:Fundació Palau
COMMENT:Preu: 3 euros (a partir de 3 anys)
DESCRIPTION:El Conte del Grill i la Mosca
URL:https://caldetes.cat/document.php?id=3913
END:VEVENT
END:VCALENDAR