BEGIN:VCALENDAR
VERSION:2.0
PRODID:-//Plone.org//NONSGML plone.app.event//EN
X-WR-TIMEZONE:Europe/Madrid
BEGIN:VEVENT
SUMMARY:Festival Poesia i Més - La caiguda de l'Hac
DTSTART;TZID=Europe/Madrid;VALUE=DATE-TIME:20150703T210000
DTEND;TZID=Europe/Madrid;VALUE=DATE-TIME:20150703T220000
DTSTAMP;VALUE=DATE-TIME:20260423T020150Z
UID:9dab0567f6dc7d87a15158fa0d7913c4
CREATED;VALUE=DATE-TIME:20150703T000000Z
CATEGORIES:Música
LOCATION:Pèrgola Can Muntanyà
ORGANIZER:Fundació Palau i Ajuntament de Caldes d'Estrac
COMMENT:Preu: 15&euro; (entrada conjunta amb el concert de es 22.30
DESCRIPTION:Jordi Oriol i Companyia Indi Gest
URL:https://caldetes.cat/document.php?id=3918
END:VEVENT
END:VCALENDAR