BEGIN:VCALENDAR
VERSION:2.0
PRODID:-//Plone.org//NONSGML plone.app.event//EN
X-WR-TIMEZONE:Europe/Madrid
BEGIN:VEVENT
SUMMARY:Festival Poesia i Més- Ulls de poll
DTSTART;TZID=Europe/Madrid;VALUE=DATE-TIME:20150703T223000
DTEND;TZID=Europe/Madrid;VALUE=DATE-TIME:20150703T233000
DTSTAMP;VALUE=DATE-TIME:20260424T130624Z
UID:af2661fa63aeb7d4a33ad6e943cd2122
CREATED;VALUE=DATE-TIME:20150703T000000Z
CATEGORIES:Música
LOCATION:Pèrgola Can Muntanyà
ORGANIZER:Fundació Palau i Ajuntament de Caldes d'Estrac
COMMENT:Preu: 15&euro; (entrada conjunta amb el concert de es 21.00
DESCRIPTION:Gerard Quintana, Xarim Aresté i Paul Fuster
URL:https://caldetes.cat/document.php?id=3919
END:VEVENT
END:VCALENDAR