BEGIN:VCALENDAR
VERSION:2.0
PRODID:-//Plone.org//NONSGML plone.app.event//EN
X-WR-TIMEZONE:Europe/Madrid
BEGIN:VEVENT
SUMMARY:Festival Poesia i Més - A solas contigo
DTSTART;TZID=Europe/Madrid;VALUE=DATE-TIME:20150705T210000
DTEND;TZID=Europe/Madrid;VALUE=DATE-TIME:20150705T220000
DTSTAMP;VALUE=DATE-TIME:20260425T144324Z
UID:153de74f6a67feaf7e8b7323d1961669
CREATED;VALUE=DATE-TIME:20150705T000000Z
CATEGORIES:Música
LOCATION:Pèrgola Can Muntanyà
ORGANIZER:Fundació Palau i Ajuntament de Caldes d'Estrac
COMMENT:Preu: 15&euro;
DESCRIPTION:Santiago Auserón
URL:https://caldetes.cat/document.php?id=3924
END:VEVENT
END:VCALENDAR