BEGIN:VCALENDAR
VERSION:2.0
PRODID:-//Plone.org//NONSGML plone.app.event//EN
X-WR-TIMEZONE:Europe/Madrid
BEGIN:VEVENT
SUMMARY:Festival Poesia i +
DTSTART;TZID=Europe/Madrid;VALUE=DATE-TIME:20150707T203000
DTEND;TZID=Europe/Madrid;VALUE=DATE-TIME:20150707T213000
DTSTAMP;VALUE=DATE-TIME:20260425T003411Z
UID:a446ace5f2262f3dd4633181e69bbdbb
CREATED;VALUE=DATE-TIME:20150707T000000Z
CATEGORIES:Música
LOCATION:Teatre Principal. Arenys de Mar
ORGANIZER:Fundació Palau i Ajuntament d'Arenys de Mar
COMMENT:Preu: 10&euro;
DESCRIPTION:Ferran Palau
URL:https://caldetes.cat/document.php?id=3925
END:VEVENT
END:VCALENDAR